BEGIN:VCALENDAR
VERSION:2.0
PRODID:-//ChamberMaster//Event Calendar 2.0//EN
METHOD:PUBLISH
X-PUBLISHED-TTL:P3D
REFRESH-INTERVAL:P3D
CALSCALE:GREGORIAN
BEGIN:VEVENT
DTSTART:20210417T130000Z
DTEND:20210417T180000Z
X-MICROSOFT-CDO-ALLDAYEVENT:FALSE
SUMMARY:"Chip-In" for Quality Schools Golf Tournament
DESCRIPTION:For the past 26 years\, golfers\, sponsors\, and the Rockingham Educational Foundation have come together to "Chip-in" for the Quality Schools Golf Classic. Money raised is used for our Innovative Learning Grants\, which provide unique opportunities to enhance or expand learning through curriculum or school enrichment activities in Rockingham County Public Schools. \n\nOn April 17\, 2021 we will tee off once again at the Lakeview Golf Club. The format will be captain's choice with a shotgun start at 9:00 am. The tournament will also feature on-course contests and awesome prizes. Entry includes participation gifts for each player along with all-day food and beverages. 4-person teams\, $100/per player. \n\nFor more information or to become a sponsor\, visit https://www.refigivesback.org/2021-golf-tournament.html
X-ALT-DESC;FMTTYPE=text/html:<p><span style="background-color:transparent\; color:rgb(10\, 10\, 10)\; font-family:arial\; font-size:12pt">For the past 26 years\, golfers\, sponsors\, and the Rockingham Educational Foundation have come together to &ldquo\;Chip-in&rdquo\; for the Quality Schools Golf Classic. Money raised is used for our Innovative Learning Grants\, which </span><span style="background-color:transparent\; color:rgb(0\, 0\, 0)\; font-family:arial\; font-size:12pt">provide unique opportunities to enhance or expand learning through curriculum or school enrichment activities in Rockingham County Public Schools.&nbsp\;</span></p>\n\n<p><span style="background-color:transparent\; color:rgb(10\, 10\, 10)\; font-family:arial\; font-size:12pt">On April 17\, 2021 we will tee off once again at the Lakeview Golf Club. The format will be captain&rsquo\;s choice with a shotgun start at 9:00 am. The tournament will also feature on-course contests and awesome prizes. Entry includes participation gifts for each player along with all-day food and beverages. 4-person teams\, $100/per player.&nbsp\;</span></p>\n\n<p><span style="background-color:transparent\; color:rgb(10\, 10\, 10)\; font-family:arial\; font-size:12pt">For more information or to become a sponsor\, visit https://www.refigivesback.org/2021-golf-tournament.html</span></p>\n\n<div>&nbsp\;</div>\n
LOCATION:Lakeview Golf Club
UID:e.2338.10532
SEQUENCE:3
DTSTAMP:20260420T101006Z
URL:https://chamber.hrchamber.org/events/details/chip-in-for-quality-schools-golf-tournament-04-17-2021-10532
END:VEVENT

END:VCALENDAR
