BEGIN:VCALENDAR
VERSION:2.0
PRODID:-//ChamberMaster//Event Calendar 2.0//EN
METHOD:PUBLISH
X-PUBLISHED-TTL:P3D
REFRESH-INTERVAL:P3D
CALSCALE:GREGORIAN
BEGIN:VEVENT
DTSTART:20190209T233000Z
DTEND:20190210T030000Z
X-MICROSOFT-CDO-ALLDAYEVENT:FALSE
SUMMARY:Celebrating 25 years of Giving: REFI Annual Auction & Party
DESCRIPTION:The Rockingham Educational Foundation Inc. (REFI) is proud to support the students and teachers of Rockingham County Public Schools! We invite you to celebrate 25 years of giving during our Annual Auction and Party! Enjoy festive food and drink and have fun bidding at our silent and live auction. All proceeds go to support our Educational Grants and Teacher Supply Depot!
X-ALT-DESC;FMTTYPE=text/html:<div>\n<div><span style="font-family:inherit">The Rockingham Educational Foundation Inc. (REFI) is proud to support the students and teachers of Rockingham County Public Schools! We invite you to celebrate 25 years of giving during our Annual Auction and Party! Enjoy festive food and drink and have fun bidding at our silent and live auction. All proceeds go to support our Educational Grants and Teacher Supply Depot!&nbsp\;</span></div>\n</div>\n
LOCATION:Hotel Madison
UID:e.2338.6106
SEQUENCE:3
DTSTAMP:20260420T032726Z
URL:https://chamber.hrchamber.org/events/details/celebrating-25-years-of-giving-refi-annual-auction-party-6106
END:VEVENT

END:VCALENDAR
