BEGIN:VCALENDAR
VERSION:2.0
PRODID:-//ChamberMaster//Event Calendar 2.0//EN
METHOD:PUBLISH
X-PUBLISHED-TTL:P3D
REFRESH-INTERVAL:P3D
CALSCALE:GREGORIAN
BEGIN:VEVENT
DTSTART:20160302T210000Z
DTEND:20160302T220000Z
X-MICROSOFT-CDO-ALLDAYEVENT:FALSE
SUMMARY:Celebrate Dr. Seuss' Birthday @ Village Library
DESCRIPTION:For school-age children. Celebrate Dr. Seuss' birthday with stories and crafts.
X-ALT-DESC;FMTTYPE=text/html:For school-age children. Celebrate Dr. Seuss&#39\; birthday with stories and crafts.
LOCATION:Village Library\, Broadway
UID:e.2338.342
SEQUENCE:3
DTSTAMP:20260422T080553Z
URL:https://chamber.hrchamber.org/events/details/celebrate-dr-seuss-birthday-village-library-03-02-2016-342
END:VEVENT

END:VCALENDAR
