BEGIN:VCALENDAR
VERSION:2.0
PRODID:-//ChamberMaster//Event Calendar 2.0//EN
METHOD:PUBLISH
X-PUBLISHED-TTL:P3D
REFRESH-INTERVAL:P3D
CALSCALE:GREGORIAN
BEGIN:VEVENT
DTSTART:20150710T230000Z
DTEND:20150711T000000Z
X-MICROSOFT-CDO-ALLDAYEVENT:FALSE
SUMMARY:Cast A Camp Up with People International Performance!
DESCRIPTION:Camp Up with People is a non-profit performing arts\, leadership\, community service and culturally diverse summer camp. Our campers are 13-17 years old and they come from all around the world representing 8 different countries: Japan\, Mexico\, Belgium\, Puerto Rico\, Finland\, France\, Israel and the USA ... Join us in an evening of culture\, music and dance and fun!
X-ALT-DESC;FMTTYPE=text/html:Camp Up with People is a non-profit performing arts\, leadership\, community service and culturally diverse summer camp. Our campers are 13-17 years old and they come from all around the world representing 8 different countries: Japan\, Mexico\, Belgium\, Puerto Rico\, Finland\, France\, Israel and the USA ... Join us in an evening of culture\, music and dance and fun!
LOCATION:Eastern Mennonite High School Auditorium 801 Parkwood Dr \, Harrisonburg VA 22802
UID:e.2338.270
SEQUENCE:3
DTSTAMP:20260424T191634Z
URL:https://chamber.hrchamber.org/events/details/cast-a-camp-up-with-people-international-performance-07-10-2015-270
END:VEVENT

END:VCALENDAR
