BEGIN:VCALENDAR
VERSION:2.0
PRODID:-//ChamberMaster//Event Calendar 2.0//EN
METHOD:PUBLISH
X-PUBLISHED-TTL:P3D
REFRESH-INTERVAL:P3D
CALSCALE:GREGORIAN
BEGIN:VEVENT
DTSTART:20190713T150000Z
DTEND:20190713T170000Z
X-MICROSOFT-CDO-ALLDAYEVENT:FALSE
SUMMARY:Cason Chiropractic Summer Splash Open House
DESCRIPTION:Saturday July 13th from 11am to 1pm we will be hosting our Summer Splash Open House event! This is a free event open to everyone that has a spine. :) We will be having free hot dogs and hamburgers\, live Bluegrass music performed by the local Swift Run Bluegrass Band\, Kids Splash Party so kids bring your bathing suits\, raffling off a brand new grill\, brand new Kayak and much much more! Mark your calendars and add yourselves to this event page. You won't want to miss it. See you July 13!\n\n463 Hidden Creek Ln\n\n540-433-6909\n\nPlease call us if you have any questions or need anymore details thanks!
X-ALT-DESC;FMTTYPE=text/html:<font color="#1d2129"><span style="font-size:14px">Saturday July 13th from 11am to 1pm we will be hosting our Summer Splash Open House event! This is a free event open to everyone that has a spine. :) We will be having free hot dogs and hamburgers\, live Bluegrass music performed by the local Swift Run Bluegrass Band\, Kids Splash Party so kids bring your bathing suits\, raffling off a brand new grill\, brand new Kayak and much much more! Mark your calendars and add yourselves to this event page. You won&#39\;t want to miss it. See you July 13!</span></font><br />\n<font color="#1d2129"><span style="font-size:14px">463 Hidden Creek Ln</span></font><br />\n<font color="#1d2129"><span style="font-size:14px">540-433-6909</span></font><br />\n<font color="#1d2129"><span style="font-size:14px">Please call us if you have any questions or need&nbsp\;</span><span style="caret-color:rgb(29\, 33\, 41)\; font-size:14px">anymore details thanks!</span></font>
LOCATION:Cason Chiropractic 463 Hidden Creek Ln Harrisonburg\, Va 22801
UID:e.2338.6651
SEQUENCE:3
DTSTAMP:20260419T195216Z
URL:https://chamber.hrchamber.org/events/details/cason-chiropractic-summer-splash-open-house-6651
END:VEVENT

END:VCALENDAR
