BEGIN:VCALENDAR
VERSION:2.0
PRODID:-//ChamberMaster//Event Calendar 2.0//EN
METHOD:PUBLISH
X-PUBLISHED-TTL:P3D
REFRESH-INTERVAL:P3D
CALSCALE:GREGORIAN
BEGIN:VEVENT
DTSTART:20180316T210000Z
DTEND:20180317T030000Z
X-MICROSOFT-CDO-ALLDAYEVENT:FALSE
SUMMARY:Cask for a Cause
DESCRIPTION:
X-ALT-DESC;FMTTYPE=text/html:
LOCATION:BROTHERS CRAFT BREWING 800 NORTH MAIN STREET HARRISONBURG\, VA 22802
UID:e.2338.3718
SEQUENCE:3
DTSTAMP:20260420T100501Z
URL:https://chamber.hrchamber.org/events/details/cask-for-a-cause-3718
END:VEVENT

END:VCALENDAR
