BEGIN:VCALENDAR
VERSION:2.0
PRODID:-//ChamberMaster//Event Calendar 2.0//EN
METHOD:PUBLISH
X-PUBLISHED-TTL:P3D
REFRESH-INTERVAL:P3D
CALSCALE:GREGORIAN
BEGIN:VEVENT
DTSTART:20180929T123000Z
DTEND:20180929T193000Z
X-MICROSOFT-CDO-ALLDAYEVENT:FALSE
SUMMARY:"CARING for TRAUMA"
DESCRIPTION:Saturday\, September 29\, 2018\n\n8:30am-3:30pm\n\n"CARING for TRAUMA"\n \n\nThis training will help primary care and social service providers engage with people who have a history of trauma. Trauma-informed care changes the providers' perspective from asking\, "What is wrong with you?" to "What has happened to you?". This shift in perspective leads to greater connection between provider and consumer\, improving services.\n\n \n\nOur speaker will be Dr. Allison Jackson. She is a person of lived experience and a Licensed Clinical Social Worker. As a professional\, she has provided leadership development to behavioral health\, education\, child welfare\, and criminal justice systems for more than 20 years. Jackson is now the CEO of Integrations Solutions\, which provides education and consultation services on trauma-informed care.\n\n \n\nStrength In Peers is providing free training and technical assistance to help primary care\, social service\, and other community organizations implement trauma-informed practices. LUNCH and REFRESHMENTS will be provided!\n\n \n\nAs a result of this training\, participants will learn:\n\n1. How traumatic events contribute to physical health\, mental health\, and addiction problems.\n\n2. Skills for building relationships with survivors of trauma to promote trust\, honesty\, and follow-through.\n\n3. The role of self-awareness and self-care to mitigate the impact of vicarious trauma on the provider.\n\n \n\nLOCATION:\n\nManor Memorial United Methodist Church\n\n9320 North Congress Street\n\nNew Market\, VA 22844\n\n \n\nTO REGISTER for this FREE event:\n\nCaring4Trauma.eventbrite.com\n\nOR CALL 540-217-0869\n\n \n\nThis training is brought to you by Strength In Peers. www.StrengthInPeers.org \; 540-217-0869
X-ALT-DESC;FMTTYPE=text/html:<div style="text-align: center\;">&nbsp\;&nbsp\;&nbsp\;&nbsp\;<u>Saturday\, September 29\, 2018</u><br />\n8:30am-3:30pm<br />\n<span style="font-size:15.0pt">&ldquo\;CARING for TRAUMA&rdquo\;</span></div>\n&nbsp\;<br />\nThis training will help primary care and social service providers engage with people who have a history of trauma. Trauma-informed care changes the providers&rsquo\; perspective from asking\, &ldquo\;What is wrong with you?&rdquo\; to &ldquo\;What has happened to you?&rdquo\;. This shift in perspective leads to greater connection between provider and consumer\, improving services.<br />\n&nbsp\;<br />\nOur speaker will be <strong>Dr. Allison Jackson</strong>. She is a person of lived experience and a Licensed Clinical Social Worker. As a professional\, she has provided leadership development to behavioral health\, education\, child welfare\, and criminal justice systems for more than 20 years. Jackson is now the CEO of Integrations Solutions\, which provides education and consultation services on trauma-informed care.<br />\n&nbsp\;<br />\nStrength In Peers is providing free training and technical assistance to help primary care\, social service\, and other community organizations implement trauma-informed practices. <u><span style="color:#C0504D">LUNCH and REFRESHMENTS will be provided!</span></u><br />\n&nbsp\;<br />\n<strong>As a result of this training\, participants will learn:</strong><br />\n1. How traumatic events contribute to physical health\, mental health\, and addiction problems.<br />\n2. Skills for building relationships with survivors of trauma to promote trust\, honesty\, and follow-through.<br />\n3. The role of self-awareness and self-care to mitigate the impact of vicarious trauma on the provider.<br />\n&nbsp\;<br />\n<strong>LOCATION:</strong><br />\n<strong>Manor Memorial United Methodist Church</strong><br />\n<strong>9320 North Congress Street</strong><br />\n<strong>New Market\, VA 22844</strong><br />\n&nbsp\;<br />\n<strong><u>TO REGISTER for this</u></strong><u> <span style="color:#C0504D">FREE</span> <strong>event</strong>:</u><br />\n<strong>Caring4Trauma.eventbrite.com</strong><br />\n<strong>OR CALL</strong> <span style="color:#C0504D">540-217-0869</span><br />\n&nbsp\;<br />\nThis training is brought to you by Strength In Peers. www.StrengthInPeers.org \; 540-217-0869
LOCATION:Manor Memorial United Methodist 9320 North Congress Street New Market\, VA 22844
UID:e.2338.6021
SEQUENCE:3
DTSTAMP:20260420T102517Z
URL:https://chamber.hrchamber.org/events/details/caring-for-trauma-6021
END:VEVENT

END:VCALENDAR
