BEGIN:VCALENDAR
VERSION:2.0
PRODID:-//ChamberMaster//Event Calendar 2.0//EN
METHOD:PUBLISH
X-PUBLISHED-TTL:P3D
REFRESH-INTERVAL:P3D
CALSCALE:GREGORIAN
BEGIN:VEVENT
DTSTART:20160813T140000Z
DTEND:20160813T160000Z
X-MICROSOFT-CDO-ALLDAYEVENT:FALSE
SUMMARY:Career Seminar
DESCRIPTION:Ever thought of being your own boss or running your own business?\n\n\n\nPlease join us for a FREE Career Opportunity Seminar.  We are looking for entrepreneurial minded individuals who would like to be in business for themselves\, but not by themselves. You will hear from an agent who has been with us for ten years and learn how this has truly been an opportunity of a lifetime for him and his family! You will learn what we look for and how we select people to join our team and what a career with our organization offers.  Such as:  \nInnovative and paid training\n\nPersonal mentoring/on the job learning\nOngoing technical support\n\nFinancial support options\n\nFlexibility and work/life balance\n\nBecome a trusted advisor in your community\nMore earning potential = no salary cap\n\nProduction and profit bonuses\n\nPerformance based awards\n\nWorldwide travel opportunities
X-ALT-DESC;FMTTYPE=text/html:<div><strong>Ever thought of being your own boss or running your own business?</strong><br />\n<br />\nPlease join us for a FREE Career Opportunity Seminar.&nbsp\; We are looking for entrepreneurial minded individuals who would like to be in business for themselves\, but not by themselves. You will hear from an agent who has been with us for ten years and learn how this has truly been an opportunity of a lifetime for him and his family! You will learn what we look for and how we select people to join our team and what a career with our organization offers.&nbsp\; Such as: &nbsp\;</div>\nInnovative and paid training<br />\nPersonal mentoring/on the job learning\n<div>Ongoing technical support<br />\nFinancial support options<br />\nFlexibility and work/life balance</div>\n\n<div>Become a trusted advisor in your community</div>\nMore earning potential = no salary cap<br />\nProduction and profit bonuses<br />\nPerformance based awards<br />\nWorldwide travel opportunities
LOCATION:The Hub CoWorking office 128 W Bruce Street Harrisonburg\, VA 22801
UID:e.2338.465
SEQUENCE:3
DTSTAMP:20260422T003718Z
URL:https://chamber.hrchamber.org/events/details/career-seminar-08-13-2016-465
END:VEVENT

END:VCALENDAR
