BEGIN:VCALENDAR
VERSION:2.0
PRODID:-//ChamberMaster//Event Calendar 2.0//EN
METHOD:PUBLISH
X-PUBLISHED-TTL:P3D
REFRESH-INTERVAL:P3D
CALSCALE:GREGORIAN
BEGIN:VEVENT
DTSTART:20161008T220000Z
DTEND:20161009T000000Z
X-MICROSOFT-CDO-ALLDAYEVENT:FALSE
SUMMARY:Candidate's Forum for Harrisonburg City Council
DESCRIPTION:Don't miss this opportunity to hear from the candidates running for city council in Harrisonburg. Candidates will be asked questions about immigration\, refugees\, social services\, their vision for Harrisonburg\, among other issues that affect all of us! Spanish & Arabic Translators. Childcare Provided.
X-ALT-DESC;FMTTYPE=text/html:Don&#39\;t miss this opportunity to hear from the candidates running for city council in Harrisonburg. Candidates will be asked questions about immigration\, refugees\, social services\, their vision for Harrisonburg\, among other issues that affect all of us! Spanish &amp\; Arabic Translators. Childcare Provided.
LOCATION:Lucy Simms
UID:e.2338.1503
SEQUENCE:3
DTSTAMP:20260421T215749Z
URL:https://chamber.hrchamber.org/events/details/candidate-s-forum-for-harrisonburg-city-council-1503
END:VEVENT

END:VCALENDAR
