BEGIN:VCALENDAR
VERSION:2.0
PRODID:-//ChamberMaster//Event Calendar 2.0//EN
METHOD:PUBLISH
X-PUBLISHED-TTL:P3D
REFRESH-INTERVAL:P3D
CALSCALE:GREGORIAN
BEGIN:VEVENT
DTSTART:20190419T130000Z
DTEND:20190419T143000Z
X-MICROSOFT-CDO-ALLDAYEVENT:FALSE
SUMMARY:CANCELLED - Aging In Place Business Council
DESCRIPTION:MEETING IS CANCELLED
X-ALT-DESC;FMTTYPE=text/html:<span style="font-size:16px\;"><span style="color:#FF0000\;"><strong>MEETING IS CANCELLED</strong></span></span>
LOCATION:
UID:e.2338.1755
SEQUENCE:3
DTSTAMP:20260420T002622Z
URL:https://chamber.hrchamber.org/events/details/cancelled-aging-in-place-business-council-1755
END:VEVENT

END:VCALENDAR
