BEGIN:VCALENDAR
VERSION:2.0
PRODID:-//ChamberMaster//Event Calendar 2.0//EN
METHOD:PUBLISH
X-PUBLISHED-TTL:P3D
REFRESH-INTERVAL:P3D
CALSCALE:GREGORIAN
BEGIN:VEVENT
DTSTART:20171013T113000Z
DTEND:20171013T130000Z
X-MICROSOFT-CDO-ALLDAYEVENT:FALSE
SUMMARY:Business Smarts - What Your Employees Wish You Knew
DESCRIPTION:Most businesses in America settle for compromised profitability. Countless hours of productivity are lost in today's workplace because the vast majority of workers are not engaged in their work. But it doesn't have to be this way. Robert McFarland has discovered the top four concerns of employees today through surveying hundreds of people in different industries across the country. His book Dear Boss: What Your Employees Wish You Knew (due out Fall 2017) details these four main concerns\, provides comprehensive solutions to each of them\, and addresses the workplace culture problems faced by virtually every company in the marketplace. At the October Business Smarts\, Robert McFarland will reveal the research results from his book and explain how you can apply this data to improve your company's profitability. By solving the four main concerns plaguing today's workforce\, you can create a work environment conducive to employee engagement and company productivity and become more profitable as a result. \n\n \n\nRobert McFarland helps companies improve their company cultures to make them healthier and more profitable. Robert is President of Transformational Impact LLC\, a leadership development consultancy helping companies envision their preferred future\, map the strategy to get there\, and create the company culture to bring it to fruition. He has worked with myriad organizations as a leadership consultant\, executive coach\, and conference speaker. Robert serves as the Intentional Leadership Coach for the Intentional Living Center and is a frequent contributor to the Intentional Living broadcast and features. He is preparing to release his first book\, Dear Boss: What Your Employees Wish You Knew\, in Fall 2017.
X-ALT-DESC;FMTTYPE=text/html:Most businesses in America settle for compromised profitability. Countless hours of productivity are lost in today&rsquo\;s workplace because the vast majority of workers are not engaged in their work. But it doesn&rsquo\;t have to be this way. Robert McFarland has discovered the top four concerns of employees today through surveying hundreds of people in different industries across the country. His book <em>Dear Boss: What Your Employees Wish You Knew</em> (due out Fall 2017) details these four main concerns\, provides comprehensive solutions to each of them\, and addresses the workplace culture problems faced by virtually every company in the marketplace. At the October Business Smarts\, Robert McFarland will reveal the research results from his book and explain how you can apply this data to improve your company&rsquo\;s profitability. By solving the four main concerns plaguing today&rsquo\;s workforce\, you can create a work environment conducive to employee engagement <em>and</em> company productivity&mdash\;and become more profitable as a result.&nbsp\;<br />\n&nbsp\;<br />\n<span style="background:white\;">Robert McFarland helps companies </span>improve their company cultures to make them healthier and more profitable.<span style="background:white\;"> Robert is President of </span><a href="http://transformationalimpactllc.com/"><span style="background:white\;">Transformational Impact LLC</span></a><span style="background:white\;">\, a leadership development consultancy helping companies envision their preferred future\, map the strategy to get there\, and create the company culture to bring it to fruition</span>. <span style="background:white\;">He has worked with myriad organizations as a leadership consultant\, executive coach\, and conference speaker. </span>Robert serves as the Intentional Leadership Coach for the Intentional Living Center and is a frequent contributor to the Intentional Living broadcast and features. <span style="background:white\;">He is preparing to release his first book\, <em>Dear Boss:</em> <em><span style="font-family:calibri\,sans-serif\;">What Your Employees Wish You Knew</span></em></span>\, in Fall 2017<span style="background:white\;">.</span><br />\n&nbsp\;
LOCATION:American National University 1515 Country Club Rd.
UID:e.2338.1542
SEQUENCE:3
DTSTAMP:20260420T024904Z
URL:https://chamber.hrchamber.org/events/details/business-smarts-what-your-employees-wish-you-knew-1542
END:VEVENT

END:VCALENDAR
