BEGIN:VCALENDAR
VERSION:2.0
PRODID:-//ChamberMaster//Event Calendar 2.0//EN
METHOD:PUBLISH
X-PUBLISHED-TTL:P3D
REFRESH-INTERVAL:P3D
CALSCALE:GREGORIAN
BEGIN:VEVENT
DTSTART:20170414T113000Z
DTEND:20170414T130000Z
X-MICROSOFT-CDO-ALLDAYEVENT:FALSE
SUMMARY:Business Smarts - The Importance of Being Fearless (April)
DESCRIPTION:The 2017 Business Smarts Series will focus on working smarter\, not harder in your business or organization. As always\, our goal is to ensure practical knowledge with immediate benefits to you and your organization.
X-ALT-DESC;FMTTYPE=text/html:<span style="font-size:14px\;"><span style="font-family:verdana\;"><span style="color: rgb(96\, 94\, 108)\; text-align: center\; background-color: rgb(255\, 255\, 255)\;">The 2017 Business Smarts Series will focus on working smarter\, not harder in your business or organization. As always\, our goal is to ensure practical knowledge with immediate benefits to you and your organization.</span></span></span>
LOCATION:American National University 1515 Country Club Rd.
UID:e.2338.1536
SEQUENCE:3
DTSTAMP:20260419T181231Z
URL:https://chamber.hrchamber.org/events/details/business-smarts-the-importance-of-being-fearless-april-1536
END:VEVENT

END:VCALENDAR
