BEGIN:VCALENDAR
VERSION:2.0
PRODID:-//ChamberMaster//Event Calendar 2.0//EN
METHOD:PUBLISH
X-PUBLISHED-TTL:P3D
REFRESH-INTERVAL:P3D
CALSCALE:GREGORIAN
BEGIN:VEVENT
DTSTART:20170908T113000Z
DTEND:20170908T130000Z
X-MICROSOFT-CDO-ALLDAYEVENT:FALSE
SUMMARY:Business Smarts - Optimizing your Personal Planning System
DESCRIPTION:The 2017 Business Smarts Series will focus on working smarter\, not harder in your business or organization. As always\, our goal is to ensure practical knowledge with immediate benefits to you and your organization.
X-ALT-DESC;FMTTYPE=text/html:<span style="font-size:14px\;"><span style="font-family:verdana\;"><span style="color: rgb(96\, 94\, 108)\; text-align: center\; background-color: rgb(255\, 255\, 255)\;">The 2017 Business Smarts Series will focus on working smarter\, not harder in your business or organization. As always\, our goal is to ensure practical knowledge with immediate benefits to you and your organization.</span></span></span>
LOCATION:American National University 1515 Country Club Rd.
UID:e.2338.1541
SEQUENCE:3
DTSTAMP:20260420T024241Z
URL:https://chamber.hrchamber.org/events/details/business-smarts-optimizing-your-personal-planning-system-1541
END:VEVENT

END:VCALENDAR
