BEGIN:VCALENDAR
VERSION:2.0
PRODID:-//ChamberMaster//Event Calendar 2.0//EN
METHOD:PUBLISH
X-PUBLISHED-TTL:P3D
REFRESH-INTERVAL:P3D
CALSCALE:GREGORIAN
BEGIN:VEVENT
DTSTART:20171208T123000Z
DTEND:20171208T140000Z
X-MICROSOFT-CDO-ALLDAYEVENT:FALSE
SUMMARY:Business Smarts - Marketing Benchmarks\, Budgets\, and Strategies
DESCRIPTION:Marketing Benchmarks\, Budgets\, and Strategies\n\nDeveloping content for advertising and social media on a regular basis can be challenging. Using frameworks developed by the SV SBDC and tools from GrowthWheel \, you will create a simple yet comprehensive Marketing Plan ready to implement in the New Year.\n\nIn this workshop\, we will cover:\n\n	Essential Elements for Content Marketing\n	Budget\, Strategy and Editorial calendar\n	Measuring for Success\n\n Presenter Allison Dugan has more than 25 years' experience in Marketing and is a GrowthWheel Certified Business Advisor with the Shenandoah Valley Small Business Development Center.  GrowthWheel is a dynamic toolbox for decision making used in both start-ups and companies in growth mode.  SV SBDC Advisors help entrepreneurs get focused\, set agendas\, make decisions\, and take action.
X-ALT-DESC;FMTTYPE=text/html:<span style="font-size:12px\;"><strong><span style="font-family:calibri\,sans-serif\;">Marketing Benchmarks\, Budgets\, and Strategies</span></strong><br />\n<span style="font-family:calibri\,sans-serif\;">Developing content for advertising and social media on a regular basis can be challenging. Using frameworks developed by the <a href="http://www.ValleySBDC.org">SV SBDC</a> and tools from <a href="http://www.valleysbdc.org/services/consulting/growthwheel/" target="_blank">GrowthWheel</a>&reg\;\, you will create a simple yet comprehensive Marketing Plan ready to implement in the New Year.</span><br />\n<span style="font-family:calibri\,sans-serif\;">In this workshop\, we will cover:</span></span>\n<ul>\n	<li><span style="font-size:12px\;"><span style="font-family:calibri\,sans-serif\;">Essential Elements for Content Marketing</span></span></li>\n	<li><span style="font-size:12px\;"><span style="font-family:calibri\,sans-serif\;">Budget\, Strategy and Editorial calendar</span></span></li>\n	<li><span style="font-size:12px\;"><span style="font-family:calibri\,sans-serif\;">Measuring for Success</span></span></li>\n</ul>\n<span style="font-size:12px\;"> <strong><span style="font-family:calibri\,sans-serif\;">Presenter Allison Dugan</span></strong><span style="font-family:calibri\,sans-serif\;"> has more than 25 years&#39\; experience in Marketing and is a GrowthWheel Certified Business Advisor with the Shenandoah Valley Small Business Development Center.&nbsp\; GrowthWheel is a dynamic toolbox for decision making used in both start-ups and companies in growth mode.&nbsp\; SV SBDC Advisors help entrepreneurs get focused\, set agendas\, make decisions\, and take action.</span></span><br />\n&nbsp\;
LOCATION:American National University 1515 Country Club Rd.
UID:e.2338.3219
SEQUENCE:3
DTSTAMP:20260420T055308Z
URL:https://chamber.hrchamber.org/events/details/business-smarts-marketing-benchmarks-budgets-and-strategies-3219
END:VEVENT

END:VCALENDAR
