BEGIN:VCALENDAR
VERSION:2.0
PRODID:-//ChamberMaster//Event Calendar 2.0//EN
METHOD:PUBLISH
X-PUBLISHED-TTL:P3D
REFRESH-INTERVAL:P3D
CALSCALE:GREGORIAN
BEGIN:VEVENT
DTSTART:20170310T123000Z
DTEND:20170310T140000Z
X-MICROSOFT-CDO-ALLDAYEVENT:FALSE
SUMMARY:Business Smarts - Finding the Right Employee for Your Business Needs (March)
DESCRIPTION:The 2017 Business Smarts Series will focus on working smarter\, not harder in your business or organization. As always\, our goal is to ensure practical knowledge with immediate benefits to you and your organization.\n\n\n\nDo you know that 70% of employees are disengaged at work? That's a troubling statistic! So how do you engage the employees you have AND hire the "right" employees for the job?\n\n\n\nThe key is understanding yourself\, your business culture\, and the "work traits" that YOU need in YOUR business. This presentation will give you useful tools to use in the hiring process - from design to implementation - so that you can increase the number of engaged employees and enjoy a "drama free" workplace.\n\n\n\nPresenters:\n\nKyle Laver\, M.Ed.\, Ed.S.\, GCDF has a Bachelor's Degree in Psychology\, a Masters in Counseling\, and an Educational Specialist Degree from James Madison University. She has over 12 years of experience as a counselor and career coach serving students as young as 12 and as old as 75. Kyle is passionate about helping others understand their personalities and what will drive them to a successful career. She has presented and facilitated training for small businesses\, large corporations\, and national career conferences\, and has established CPL Coaching as a premier local resource for businesses and individuals who want to create strong systems and build healthier\, more fulfilling careers.\n\n\n\nMike Forster\, MBA has a Bachelor's Degree in Computer Science from JMU and a Masters in Business Administration from Regent University.  He has a unique 13 year background in computer systems\, project management\, leadership\, branding\, strategic planning\, business development\, and organizational change.  Mike is passionate about developing leaders and businesses to reach their full potential and has presented at small businesses\, state\, and national conferences. As the newest addition to the CPL Coaching team\, Mike is excited to work with local area businesses and leaders.
X-ALT-DESC;FMTTYPE=text/html:<span style="font-size:14px\;"><span style="font-family: verdana\;"><span style="color: rgb(96\, 94\, 108)\; text-align: center\; background-color: rgb(255\, 255\, 255)\;">The 2017 Business Smarts Series will focus on working smarter\, not harder in your business or organization. As always\, our goal is to ensure practical knowledge with immediate benefits to you and your organization.</span><br />\n<br />\n<span style="color: rgb(51\, 51\, 51)\;">Do you know that 70% of employees are disengaged at work? That&#39\;s a troubling statistic! So how do you engage the employees you have AND hire the &quot\;right&quot\; employees for the job?</span><br />\n<br />\n<span style="color: rgb(51\, 51\, 51)\;">The key is understanding yourself\, your business culture\, and the &quot\;work traits&quot\; that YOU need in YOUR business. This presentation will give you useful tools to use in the hiring process - from design to implementation - so that you can increase the number of engaged employees and enjoy a &quot\;drama free&quot\; workplace.</span><br />\n<br />\n<strong><span style="color: rgb(51\, 51\, 51)\;">Presenters:</span></strong><br />\n<span style="color: rgb(51\, 51\, 51)\;">Kyle Laver\, M.Ed.\, Ed.S.\, GCDF has a Bachelor&#39\;s Degree in Psychology\, a Masters in Counseling\, and an Educational Specialist Degree from James Madison University. She has over 12 years of experience as a counselor and career coach serving students as young as 12 and as old as 75. Kyle is passionate about helping others understand their personalities and what will drive them to a successful career. She has presented and facilitated training for small businesses\, large corporations\, and national career conferences\, and has established CPL Coaching as a premier local resource for businesses and individuals who want to create strong systems and build healthier\, more fulfilling careers.</span><br />\n<br />\n<span style="color: rgb(51\, 51\, 51)\;">Mike Forster\, MBA has a Bachelor&#39\;s Degree in Computer Science from JMU and a Masters in Business Administration from Regent University.&nbsp\; He has a unique 13 year background in computer systems\, project management\, leadership\, branding\, strategic planning\, business development\, and organizational change.&nbsp\; Mike is passionate about developing leaders and businesses to reach their full potential and has presented at small businesses\, state\, and national conferences. As the newest addition to the CPL Coaching team\, Mike is excited to work with local area businesses and leaders.</span></span></span><br />\n&nbsp\;
LOCATION:American National University 1515 Country Club Rd.
UID:e.2338.341
SEQUENCE:3
DTSTAMP:20260419T164452Z
URL:https://chamber.hrchamber.org/events/details/business-smarts-finding-the-right-employee-for-your-business-needs-march-341
END:VEVENT

END:VCALENDAR
