BEGIN:VCALENDAR
VERSION:2.0
PRODID:-//ChamberMaster//Event Calendar 2.0//EN
METHOD:PUBLISH
X-PUBLISHED-TTL:P3D
REFRESH-INTERVAL:P3D
CALSCALE:GREGORIAN
BEGIN:VEVENT
DTSTART:20190614T120000Z
DTEND:20190614T133000Z
X-MICROSOFT-CDO-ALLDAYEVENT:FALSE
SUMMARY:Business Smarts · Facing the Grey Wave
DESCRIPTION:Daily 10\,000 people turn 65 years old and this trend is expected to continue into the 2030's. The aging baby boomers will change how we respond to the needs of older adults.\n\nThis presentation informs the audience of the impact and implications of the aging population on communities and businesses. The intent of the presentation is to stimulate conversation around what the business community is currently experiencing and what they can expect to experience\, as well as tools for becoming better prepared for aging customers and employees.\n\nPresenter Beth Bland has worked with Valley Program for Aging Services (VPAS) for nearly 6 years. She previously worked with aging programs at Sentara RMH (formally RMH) and has held contract positions with the Alzheimer's Association and Senior Navigator. She holds an Associate of Applied Science degree in Mental Health as well as a certificate in gerontology and non-profit management.\n\nBusiness Smarts Breakfast sessions are held on the 2nd Friday of every month with networking opportunities and guest presentations on a variety of topics. \n\nThe series is sponsored by your Shenandoah Valley Small Business Development Center\, the Harrisonburg-Rockingham Chamber of Commerce\, and Shenandoah Valley Chapter of SCORE.  Coffee provided by Broad Porch Coffee.\n\nParking for Business Smarts:  You may park in the Ice House lot on Bruce Street without a JMU permit during Business Smarts sessions from 7:30-9:45am.
X-ALT-DESC;FMTTYPE=text/html:<p style="margin: 0px 0px 9px\; padding: 0px\; border: 0px\; outline: 0px\; font-size: 12px\; vertical-align: baseline\; background: rgb(255\, 255\, 255)\; line-height: 1.6em\; font-family: Arial\, sans-serif\; box-sizing: border-box\; color: rgb(97\, 99\, 101)\;"><span new="" style="margin: 0px\; padding: 0px\; border: 0px\; outline: 0px\; font-size: medium\; vertical-align: baseline\; background: transparent\; box-sizing: border-box\; font-family: " times="">D</span><span new="" style="margin: 0px\; padding: 0px\; border: 0px\; outline: 0px\; font-size: medium\; vertical-align: baseline\; background: transparent\; box-sizing: border-box\; font-family: " times="">aily 10\,000 people turn 65 years old and this trend is expected to continue into the 2030&rsquo\;s.&nbsp\;</span><span new="" style="margin: 0px\; padding: 0px\; border: 0px\; outline: 0px\; font-size: medium\; vertical-align: baseline\; background: transparent\; box-sizing: border-box\; font-family: " times="">The aging baby boomers will change how we respond to the needs of older adults.</span></p>\n\n<p style="margin: 0px 0px 9px\; padding: 0px\; border: 0px\; outline: 0px\; font-size: 12px\; vertical-align: baseline\; background: rgb(255\, 255\, 255)\; line-height: 1.6em\; font-family: Arial\, sans-serif\; box-sizing: border-box\; color: rgb(97\, 99\, 101)\;"><span new="" style="margin: 0px\; padding: 0px\; border: 0px\; outline: 0px\; font-size: medium\; vertical-align: baseline\; background: transparent\; box-sizing: border-box\; font-family: " times="">This presentation informs the audience of the impact and implications of the aging population on communities and businesses. The intent of the presentation is to stimulate conversation around what the business community is currently experiencing and what they can expect to experience\, as well as tools for becoming better prepared for aging customers and employees.</span></p>\n\n<p style="margin: 0px 0px 9px\; padding: 0px\; border: 0px\; outline: 0px\; font-size: 12px\; vertical-align: baseline\; background: rgb(255\, 255\, 255)\; line-height: 1.6em\; font-family: Arial\, sans-serif\; box-sizing: border-box\; color: rgb(97\, 99\, 101)\;"><span new="" style="margin: 0px\; padding: 0px\; border: 0px\; outline: 0px\; font-size: medium\; vertical-align: baseline\; background: transparent\; box-sizing: border-box\; font-family: " times=""><strong style="margin: 0px\; padding: 0px\; border: 0px\; outline: 0px\; font-size: 12px\; vertical-align: baseline\; background: transparent\; box-sizing: border-box\;">Presenter</strong>&nbsp\;Beth Bland has worked with&nbsp\;<a href="https://www.vpas.info/" rel="noopener noreferrer" style="margin: 0px\; padding: 0px\; font-size: 12px\; outline: none\; background: transparent\; vertical-align: baseline\; color: rgb(109\, 192\, 107)\; box-sizing: border-box\; transition: background-color 0.2s ease 0s\, border 0.2s ease 0s\, color 0.2s ease 0s\, opacity 0.2s ease-in-out 0s\; box-shadow: none\; border: none\; text-decoration-line: none !important\;" target="_blank">Valley Program for Aging Services (VPAS)</a>&nbsp\;for nearly 6 years. She previously worked with aging programs at Sentara RMH (formally RMH) and has held contract positions with the Alzheimer&rsquo\;s Association and Senior Navigator. She holds an Associate of Applied Science degree in Mental Health as well as a certificate in gerontology and non-profit management.</span></p>\n\n<div helvetica="" style="margin: 0px\; padding: 0px\; border: 0px\; outline: 0px\; font-size: 12px\; vertical-align: baseline\; background: rgb(255\, 255\, 255)\; box-sizing: border-box\; color: rgb(77\, 77\, 77)\; font-family: "><em style="margin: 0px\; padding: 0px\; border: 0px\; outline: 0px\; vertical-align: baseline\; background: transparent\; box-sizing: border-box\;">Business Smarts Breakfast sessions are held on the 2nd Friday of every month with networking opportunities and guest presentations on a variety of topics.&nbsp\;</em></div>\n\n<p style="margin: 0px 0px 9px\; padding: 0px\; border: 0px\; outline: 0px\; font-size: 12px\; vertical-align: baseline\; background: rgb(255\, 255\, 255)\; line-height: 1.6em\; font-family: Arial\, sans-serif\; box-sizing: border-box\; color: rgb(97\, 99\, 101)\;"><em style="margin: 0px\; padding: 0px\; border: 0px\; outline: 0px\; vertical-align: baseline\; background: transparent\; box-sizing: border-box\;">The series is sponsored by your Shenandoah Valley Small Business Development Center\, the Harrisonburg-Rockingham Chamber of Commerce\, and Shenandoah Valley Chapter of SCORE.&nbsp\; Coffee provided by&nbsp\;<a href="https://www.broadporchcoffee.com/" style="margin: 0px\; padding: 0px\; outline: none\; background: transparent\; vertical-align: baseline\; color: rgb(109\, 192\, 107)\; box-sizing: border-box\; transition: background-color 0.2s ease 0s\, border 0.2s ease 0s\, color 0.2s ease 0s\, opacity 0.2s ease-in-out 0s\; box-shadow: none\; border: none\; text-decoration-line: none !important\;">Broad Porch Coffee</a>.</em></p>\n\n<p style="margin: 0px 0px 9px\; padding: 0px\; border: 0px\; outline: 0px\; font-size: 12px\; vertical-align: baseline\; background: rgb(255\, 255\, 255)\; line-height: 1.6em\; font-family: Arial\, sans-serif\; box-sizing: border-box\; color: rgb(97\, 99\, 101)\;"><strong style="margin: 0px\; padding: 0px\; border: 0px\; outline: 0px\; vertical-align: baseline\; background: transparent\; box-sizing: border-box\;">Parking for Business Smarts:</strong>&nbsp\; You may park in the Ice House lot on Bruce Street without a JMU permit during Business Smarts sessions from 7:30-9:45am.</p>\n
LOCATION:NEW LOCATION JMU Ice House 127 W. Bruce Street Harrisonburg
UID:e.2338.6159
SEQUENCE:3
DTSTAMP:20260419T211207Z
URL:https://chamber.hrchamber.org/events/details/business-smarts-facing-the-grey-wave-6159
END:VEVENT

END:VCALENDAR
