BEGIN:VCALENDAR
VERSION:2.0
PRODID:-//ChamberMaster//Event Calendar 2.0//EN
METHOD:PUBLISH
X-PUBLISHED-TTL:P3D
REFRESH-INTERVAL:P3D
CALSCALE:GREGORIAN
BEGIN:VEVENT
DTSTART:20190712T120000Z
DTEND:20190712T133000Z
X-MICROSOFT-CDO-ALLDAYEVENT:FALSE
SUMMARY:Business Smarts · Be Strong: Focusing on Talent to Improve Well-Being and Engagement
DESCRIPTION:Our world is a volatile\, uncertain\, complex\, and ambiguous environment that creates a rapidly changing workplace which demands employees be agile learners. Skill sets and knowledge necessary for success continue to evolve.\n\nTo meet these demands\, self-awareness is more important than ever. Employees must understand the talents they bring to the workforce and how best to build them into strengths they can leverage. Research in positive psychology demonstrates a significant link between the application of strengths and a person's sense of well-being and engagement at work.\n\nParticipants in this session will explore the connection between strengths\, well-being\, and engagement. To be successful\, we must Be Strong.\n\nLearning Outcomes - At the end of this sessions\, attendees will:\n\n\n	Be able to explain the need to create agile learners to navigate a volatile\, uncertain\, complex\, and ambiguous world.\n	Understand the relationship between strengths\, well-being\, and engagement.\n	Understand possible assessments you can use in the workplace to identify employee strengths.\n	Leave the session with additional practices you can employ to improve your own well-being and engagement.\n\n\nPresenter Jason Boron has designed and conducted leadership coaching focused on helping teams and individuals leverage their talents since 2007. He has presented a variety of programs and workshops in both the higher education and non-profit sectors\, including leadership development\, effective communication\, conflict resolution\, collaboration\, performance enhancement\, and coaching. As a Gallup Certified Strengths Coach\, he is committed to providing experiential learning opportunities to individuals and teams aimed at improving performance. Before founding Leading Strong\, LLC\, Jason served in higher education for over 15 years.\n\nBusiness Smarts Breakfast sessions are held on the 2nd Friday of every month with networking opportunities and guest presentations on a variety of topics. \n\nThe series is sponsored by your Shenandoah Valley Small Business Development Center\, the Harrisonburg-Rockingham Chamber of Commerce\, and Shenandoah Valley Chapter of SCORE.  Coffee provided by Broad Porch Coffee.\n\nParking for Business Smarts:  You may park in the Ice House lot on Bruce Street without a JMU permit during Business Smarts sessions from 7:30-9:45am.
X-ALT-DESC;FMTTYPE=text/html:<p style="margin: 0px 0px 9px\; padding: 0px\; border: 0px\; outline: 0px\; font-size: 12px\; vertical-align: baseline\; background-image: initial\; background-position: initial\; background-size: initial\; background-repeat: initial\; background-attachment: initial\; background-origin: initial\; background-clip: initial\; line-height: 1.6em\; font-family: Arial\, sans-serif\; box-sizing: border-box\; color: rgb(97\, 99\, 101)\;">Our world is a volatile\, uncertain\, complex\, and ambiguous environment that creates a rapidly changing workplace which demands employees be agile learners. Skill sets and knowledge necessary for success continue to evolve.</p>\n\n<p style="margin: 0px 0px 9px\; padding: 0px\; border: 0px\; outline: 0px\; font-size: 12px\; vertical-align: baseline\; background-image: initial\; background-position: initial\; background-size: initial\; background-repeat: initial\; background-attachment: initial\; background-origin: initial\; background-clip: initial\; line-height: 1.6em\; font-family: Arial\, sans-serif\; box-sizing: border-box\; color: rgb(97\, 99\, 101)\;">To meet these demands\, self-awareness is more important than ever. Employees must understand the talents they bring to the workforce and how best to build them into strengths they can leverage. Research in positive psychology demonstrates a significant link between the application of strengths and a person&rsquo\;s sense of well-being and engagement at work.</p>\n\n<p style="margin: 0px 0px 9px\; padding: 0px\; border: 0px\; outline: 0px\; font-size: 12px\; vertical-align: baseline\; background-image: initial\; background-position: initial\; background-size: initial\; background-repeat: initial\; background-attachment: initial\; background-origin: initial\; background-clip: initial\; line-height: 1.6em\; font-family: Arial\, sans-serif\; box-sizing: border-box\; color: rgb(97\, 99\, 101)\;">Participants in this session will explore the connection between strengths\, well-being\, and engagement. To be successful\, we must Be Strong.</p>\n\n<p style="margin: 0px 0px 9px\; padding: 0px\; border: 0px\; outline: 0px\; font-size: 12px\; vertical-align: baseline\; background-image: initial\; background-position: initial\; background-size: initial\; background-repeat: initial\; background-attachment: initial\; background-origin: initial\; background-clip: initial\; line-height: 1.6em\; font-family: Arial\, sans-serif\; box-sizing: border-box\; color: rgb(97\, 99\, 101)\;">Learning Outcomes - At the end of this sessions\, attendees will:</p>\n\n<ol style="margin: 0px 0px 9px\; padding-right: 0px\; padding-left: 0px\; border: 0px\; outline: 0px\; font-size: 12px\; vertical-align: baseline\; background-image: initial\; background-position: initial\; background-size: initial\; background-repeat: initial\; background-attachment: initial\; background-origin: initial\; background-clip: initial\; box-sizing: border-box\; color: rgb(77\, 77\, 77)\; font-family: &quot\;Helvetica Neue&quot\;\, Helvetica\, Arial\, sans-serif\;">\n	<li style="margin: 0px\; padding: 0px\; border: 0px\; outline: 0px\; vertical-align: baseline\; background: transparent\; box-sizing: border-box\;">Be able to explain the need to create agile learners to navigate a volatile\, uncertain\, complex\, and ambiguous world.</li>\n	<li style="margin: 0px\; padding: 0px\; border: 0px\; outline: 0px\; vertical-align: baseline\; background: transparent\; box-sizing: border-box\;">Understand the relationship between strengths\, well-being\, and engagement.</li>\n	<li style="margin: 0px\; padding: 0px\; border: 0px\; outline: 0px\; vertical-align: baseline\; background: transparent\; box-sizing: border-box\;">Understand possible assessments you can use in the workplace to identify employee strengths.</li>\n	<li style="margin: 0px\; padding: 0px\; border: 0px\; outline: 0px\; vertical-align: baseline\; background: transparent\; box-sizing: border-box\;">Leave the session with additional practices you can employ to improve your own well-being and engagement.</li>\n</ol>\n\n<p style="margin: 0px 0px 9px\; padding: 0px\; border: 0px\; outline: 0px\; font-size: 12px\; vertical-align: baseline\; background-image: initial\; background-position: initial\; background-size: initial\; background-repeat: initial\; background-attachment: initial\; background-origin: initial\; background-clip: initial\; line-height: 1.6em\; font-family: Arial\, sans-serif\; box-sizing: border-box\; color: rgb(97\, 99\, 101)\;"><strong style="margin: 0px\; padding: 0px\; border: 0px\; outline: 0px\; vertical-align: baseline\; background: transparent\; box-sizing: border-box\;">Presenter Jason Boron</strong>&nbsp\;has designed and conducted leadership coaching focused on helping teams and individuals leverage their talents since 2007. He has presented a variety of programs and workshops in both the higher education and non-profit sectors\, including leadership development\, effective communication\, conflict resolution\, collaboration\, performance enhancement\, and coaching. As a Gallup Certified Strengths Coach\, he is committed to providing experiential learning opportunities to individuals and teams aimed at improving performance. Before founding Leading Strong\, LLC\, Jason served in higher education for over 15 years.</p>\n\n<p style="margin: 0px 0px 9px\; padding: 0px\; border: 0px\; outline: 0px\; font-size: 12px\; vertical-align: baseline\; background-image: initial\; background-position: initial\; background-size: initial\; background-repeat: initial\; background-attachment: initial\; background-origin: initial\; background-clip: initial\; line-height: 1.6em\; font-family: Arial\, sans-serif\; box-sizing: border-box\; color: rgb(97\, 99\, 101)\;"><em style="margin: 0px\; padding: 0px\; border: 0px\; outline: 0px\; vertical-align: baseline\; background: transparent\; box-sizing: border-box\;">Business Smarts Breakfast sessions are held on the 2nd Friday of every month with networking opportunities and guest presentations on a variety of topics.&nbsp\;</em></p>\n\n<p style="margin: 0px 0px 9px\; padding: 0px\; border: 0px\; outline: 0px\; font-size: 12px\; vertical-align: baseline\; background-image: initial\; background-position: initial\; background-size: initial\; background-repeat: initial\; background-attachment: initial\; background-origin: initial\; background-clip: initial\; line-height: 1.6em\; font-family: Arial\, sans-serif\; box-sizing: border-box\; color: rgb(97\, 99\, 101)\;"><em style="margin: 0px\; padding: 0px\; border: 0px\; outline: 0px\; vertical-align: baseline\; background: transparent\; box-sizing: border-box\;">The series is sponsored by your Shenandoah Valley Small Business Development Center\, the Harrisonburg-Rockingham Chamber of Commerce\, and Shenandoah Valley Chapter of SCORE.&nbsp\; Coffee provided by Broad Porch Coffee.</em></p>\n\n<p style="margin: 0px 0px 9px\; padding: 0px\; border: 0px\; outline: 0px\; font-size: 12px\; vertical-align: baseline\; background-image: initial\; background-position: initial\; background-size: initial\; background-repeat: initial\; background-attachment: initial\; background-origin: initial\; background-clip: initial\; line-height: 1.6em\; font-family: Arial\, sans-serif\; box-sizing: border-box\; color: rgb(97\, 99\, 101)\;"><strong style="margin: 0px\; padding: 0px\; border: 0px\; outline: 0px\; vertical-align: baseline\; background: transparent\; box-sizing: border-box\;">Parking for Business Smarts:</strong>&nbsp\; You may park in the Ice House lot on Bruce Street without a JMU permit during Business Smarts sessions from 7:30-9:45am.</p>\n
LOCATION:NEW LOCATION JMU Ice House 127 W. Bruce Street Harrisonburg
UID:e.2338.6160
SEQUENCE:3
DTSTAMP:20260419T200002Z
URL:https://chamber.hrchamber.org/events/details/business-smarts-be-strong-focusing-on-talent-to-improve-well-being-and-engagement-6160
END:VEVENT

END:VCALENDAR
