BEGIN:VCALENDAR
VERSION:2.0
PRODID:-//ChamberMaster//Event Calendar 2.0//EN
METHOD:PUBLISH
X-PUBLISHED-TTL:P3D
REFRESH-INTERVAL:P3D
CALSCALE:GREGORIAN
BEGIN:VEVENT
DTSTART;VALUE=DATE:20181116
DTEND;VALUE=DATE:20181117
TRANSP:TRANSPARENT
X-MICROSOFT-CDO-ALLDAYEVENT:TRUE
SUMMARY:Business Smarts 2019 Request for Proposal
DESCRIPTION:Request for Workshop Proposals   Business Smarts 2019 \n\n\n\nWe are seeking presenters for our January-December 2019 Business Smarts Sessions on topics that help meet the many challenges of business management and ownership. Business Smarts sessions are held on the 2nd Friday of every month at the JMU Ice House\, 127 W Bruce Street\, Harrisonburg\, from 8:00-9:30 am.\n\n \n\nSession Topics might include\n\n	customer support\n	 human resources\n	accounting & finance\n	legal issues\n	marketing\, sales\n	operations\n	technology\n	competition\n	strategic planning\n	work/life balances\n	discussion of a business-oriented book\, etc.  \n\nThe goal of every Business Smarts session is that attendees leave with practical information they can put to use in their business or professional life.\n\n\n\nPROPOSAL SUBMISSION\n\nYour Proposal for a Business Smarts Presentation must include the following:\n\n1. A suggested title for your workshop\n\n2. A brief description of workshop content and the desired outcomes/takeaways for attendees\n\n3. Your Name\, Title or Position\, and Business Affiliation\n\n4. Contact info: Email address\, Daytime phone number\, the Web address of the business\n\n5. 3-4 sentences about your professional experience and/or education relevant to the topic\n\n6. Availability: indicate if there are any months Jan-Dec 2019 when you cannot present.\n\nSubmit your proposal via email with the subject line "Business Smarts Proposal" to sheena@hrchamber  by 5:00 pm on Friday\, November 16\, 2018.\n\n\n\nNotes: 1) Incomplete proposals will be disregarded. 2) Professional expertise on the subject matter should be self-evident in the content. We do not allow presentations to be used as "infomercials" or solicitations for a specific business\, product\, or service.
X-ALT-DESC;FMTTYPE=text/html:<span style="font-size:12px\;"><strong>Request for Workshop Proposals &middot\;&nbsp\;Business Smarts 2019 </strong><br />\n<br />\nWe are seeking presenters for our January-December 2019 Business Smarts Sessions on topics that help meet the many challenges of business management and ownership. Business Smarts sessions are held on the 2nd Friday of every month at the JMU Ice House\, 127 W Bruce Street\, Harrisonburg\, from 8:00-9:<span style="font-family:calibri\,sans-serif\;">30 am</span>.<br />\n&nbsp\;</span><br />\n<u><strong>Session Topics might include</strong></u>\n<ul>\n	<li><span style="font-size:12px\;">customer support</span></li>\n	<li><span style="font-size:12px\;">&nbsp\;human resources</span></li>\n	<li><span style="font-size:12px\;">accounting &amp\; finance</span></li>\n	<li><span style="font-size:12px\;">legal issues</span></li>\n	<li><span style="font-size:12px\;">marketing\, sales</span></li>\n	<li><span style="font-size:12px\;">operations</span></li>\n	<li><span style="font-size:12px\;">technology</span></li>\n	<li><span style="font-size:12px\;">competition</span></li>\n	<li><span style="font-size:12px\;">strategic planning</span></li>\n	<li><span style="font-size:12px\;">work/life balances</span></li>\n	<li><span style="font-size:12px\;">discussion of a business-oriented book\, etc. &#8203\;</span></li>\n</ul>\n<span style="font-size:12px\;"><span style="font-size:12px\;">The goal of every Business Smarts session is that attendees leave with practical information they can put to use in their business or professional life.</span></span><br />\n<br />\n<span style="font-size:12px\;"><u><strong>PROPOSAL SUBMISSION</strong></u><br />\nYour Proposal for a Business Smarts Presentation must include the following:<br />\n1. A suggested title for your workshop<br />\n2.&nbsp\;A brief description of workshop content and the desired outcomes/takeaways for attendees<br />\n3. Your Name\, Title or Position\, and Business Affiliation<br />\n4. Contact info: Email address\, Daytime phone number\, the Web address of the business<br />\n5. 3-4 sentences about your professional experience and/or education relevant to the topic<br />\n6. Availability: indicate if there are any months Jan-Dec 2019 when you cannot present.<br />\nSubmit your proposal via email with the subject line &ldquo\;<em><strong>Business Smarts Proposal</strong></em>&rdquo\;&nbsp\;to <a href="mailto:sheena@hrchamber.org?subject=Business%20Smarts%20Proposal%20">sheena@hrchamber</a>&nbsp\; by 5:00 pm&nbsp\;on&nbsp\;<u><strong>Friday\, November 16\, 2018.</strong></u><br />\n<br />\n<em><strong>Notes: 1) Incomplete proposals will be&nbsp\;disregarded. 2) Professional expertise on the subject matter should be self-evident in the content. We do not allow presentations to be used as &ldquo\;infomercials&rdquo\; or solicitations for a specific business\, product\, or service.</strong></em></span><br />\n&nbsp\;
LOCATION:
UID:e.2338.6101
SEQUENCE:3
DTSTAMP:20260420T074544Z
URL:https://chamber.hrchamber.org/events/details/business-smarts-2019-request-for-proposal-6101
END:VEVENT

END:VCALENDAR
