BEGIN:VCALENDAR
VERSION:2.0
PRODID:-//ChamberMaster//Event Calendar 2.0//EN
METHOD:PUBLISH
X-PUBLISHED-TTL:P3D
REFRESH-INTERVAL:P3D
CALSCALE:GREGORIAN
BEGIN:VEVENT
DTSTART:20180209T140000Z
DTEND:20180209T153000Z
X-MICROSOFT-CDO-ALLDAYEVENT:FALSE
SUMMARY:Business Smarts
DESCRIPTION:
X-ALT-DESC;FMTTYPE=text/html:
LOCATION:
UID:e.2338.3372
SEQUENCE:3
DTSTAMP:20260420T084602Z
URL:https://chamber.hrchamber.org/events/details/business-smarts-02-09-2018-3372
END:VEVENT

END:VCALENDAR
