BEGIN:VCALENDAR
VERSION:2.0
PRODID:-//ChamberMaster//Event Calendar 2.0//EN
METHOD:PUBLISH
X-PUBLISHED-TTL:P3D
REFRESH-INTERVAL:P3D
CALSCALE:GREGORIAN
BEGIN:VEVENT
DTSTART:20181114T123000Z
DTEND:20181114T140000Z
X-MICROSOFT-CDO-ALLDAYEVENT:FALSE
SUMMARY:Business at Breakfast | Pioneer Bank
DESCRIPTION:
X-ALT-DESC;FMTTYPE=text/html:
LOCATION:890 W. Market St Harrisonburg\, VA 22801
UID:e.2338.5857
SEQUENCE:3
DTSTAMP:20260420T075206Z
URL:https://chamber.hrchamber.org/events/details/business-at-breakfast-pioneer-bank-5857
END:VEVENT

END:VCALENDAR
