BEGIN:VCALENDAR
VERSION:2.0
PRODID:-//ChamberMaster//Event Calendar 2.0//EN
METHOD:PUBLISH
X-PUBLISHED-TTL:P3D
REFRESH-INTERVAL:P3D
CALSCALE:GREGORIAN
BEGIN:VEVENT
DTSTART:20190409T120000Z
DTEND:20190409T133000Z
X-MICROSOFT-CDO-ALLDAYEVENT:FALSE
SUMMARY:Business at Breakfast - Cason Chiropractic
DESCRIPTION:Come have breakfast with the doctors and staff at Cason Chiropractic in Harrisonburg before you start your work day! There will be food\, fun\, and coffee. Also tours of the office\, opportunities for free evaluations\, bring your questions about your health\, meet the doctors\, fellowship\, networking\, and more!
X-ALT-DESC;FMTTYPE=text/html:<span style="font-family:calibri\,sans-serif\;"><span style="font-size:11.0pt\;">Come have breakfast with the doctors and staff at Cason Chiropractic in Harrisonburg before you start your work day! There will be food\, fun\, and coffee. Also tours of the office\, opportunities for free evaluations\, bring your questions about your health\, meet the doctors\, fellowship\, networking\, and more!</span></span>
LOCATION:463 Hidden Creek Lane\, Harrisonburg
UID:e.2338.6303
SEQUENCE:3
DTSTAMP:20260420T001245Z
URL:https://chamber.hrchamber.org/events/details/business-at-breakfast-cason-chiropractic-6303
END:VEVENT

END:VCALENDAR
