BEGIN:VCALENDAR
VERSION:2.0
PRODID:-//ChamberMaster//Event Calendar 2.0//EN
METHOD:PUBLISH
X-PUBLISHED-TTL:P3D
REFRESH-INTERVAL:P3D
CALSCALE:GREGORIAN
BEGIN:VEVENT
DTSTART:20180417T113000Z
DTEND:20180417T130000Z
X-MICROSOFT-CDO-ALLDAYEVENT:FALSE
SUMMARY:Business at Breakfast - Alzheimer’s Association
DESCRIPTION:
X-ALT-DESC;FMTTYPE=text/html:
LOCATION:317 S Main Street Harrisonburg\, VA 22801
UID:e.2338.3734
SEQUENCE:3
DTSTAMP:20260420T114017Z
URL:https://chamber.hrchamber.org/events/details/business-at-breakfast-alzheimer-s-association-3734
END:VEVENT

END:VCALENDAR
