BEGIN:VCALENDAR
VERSION:2.0
PRODID:-//ChamberMaster//Event Calendar 2.0//EN
METHOD:PUBLISH
X-PUBLISHED-TTL:P3D
REFRESH-INTERVAL:P3D
CALSCALE:GREGORIAN
BEGIN:VEVENT
DTSTART:20161011T130000Z
DTEND:20161012T000000Z
X-MICROSOFT-CDO-ALLDAYEVENT:FALSE
SUMMARY:Burgers for Benefit- Skyline Literacy
DESCRIPTION:15% of proceeds from the special burger & donut will be donated to Skyline Literacy! Stay tuned for special toppings :)
X-ALT-DESC;FMTTYPE=text/html:15% of proceeds from the special burger &amp\; donut will be donated to Skyline Literacy! Stay tuned for special toppings :)
LOCATION:Pure Eats Harrisonburg 217 S Liberty St. Harrisonburg\, VA 22801
UID:e.2338.1504
SEQUENCE:3
DTSTAMP:20260421T215831Z
URL:https://chamber.hrchamber.org/events/details/burgers-for-benefit-skyline-literacy-1504
END:VEVENT

END:VCALENDAR
