BEGIN:VCALENDAR
VERSION:2.0
PRODID:-//ChamberMaster//Event Calendar 2.0//EN
METHOD:PUBLISH
X-PUBLISHED-TTL:P3D
REFRESH-INTERVAL:P3D
CALSCALE:GREGORIAN
BEGIN:VEVENT
DTSTART:20160203T220000Z
DTEND:20160204T020000Z
X-MICROSOFT-CDO-ALLDAYEVENT:FALSE
SUMMARY:Buffalo Wild Wings Proceed Night for Skyline Literacy
DESCRIPTION:On Wednesday\, February 3\, 2016\, from 5-9 pm\, Buffalo Wild Wings will donate 10% of all food sales to Skyline Literacy! ALL GUESTS MUST PRESENT A PRINTED OUT FUNDRAISING TICKET. Ticket can found on Skyline Literacy?s Facebook page.
X-ALT-DESC;FMTTYPE=text/html:On Wednesday\, February 3\, 2016\, from 5-9 pm\, Buffalo Wild Wings will donate 10% of all food sales to Skyline Literacy! ALL GUESTS MUST PRESENT A PRINTED OUT FUNDRAISING TICKET. Ticket can found on Skyline Literacy?s Facebook page.
LOCATION:Buffalo Wild Wings is located at 291 University Blvd.\, Harrisonburg\, VA.
UID:e.2338.316
SEQUENCE:3
DTSTAMP:20260422T094659Z
URL:https://chamber.hrchamber.org/events/details/buffalo-wild-wings-proceed-night-for-skyline-literacy-02-03-2016-316
END:VEVENT

END:VCALENDAR
