BEGIN:VCALENDAR
VERSION:2.0
PRODID:-//ChamberMaster//Event Calendar 2.0//EN
METHOD:PUBLISH
X-PUBLISHED-TTL:P3D
REFRESH-INTERVAL:P3D
CALSCALE:GREGORIAN
BEGIN:VEVENT
DTSTART:20191211T150000Z
DTEND:20191211T220000Z
X-MICROSOFT-CDO-ALLDAYEVENT:FALSE
SUMMARY:BrydgeWorks Glass Christmas Open House Week
DESCRIPTION:Help us celebrate Christmas during our week-long Open House December 10   14\, 2019\n\nDoor prizes\, specials\, mulled cider and cookies\, and more!
X-ALT-DESC;FMTTYPE=text/html:<span style="color:rgb(29\, 33\, 41)\; font-family:helvetica\,arial\,sans-serif\; font-size:14px">Help us celebrate Christmas during our week-long&nbsp\;</span><span style="color:rgb(29\, 33\, 41)\; font-family:helvetica\,arial\,sans-serif\; font-size:14px">Open House December 10 &ndash\; 14\, 2019</span><br />\n<span style="color:rgb(29\, 33\, 41)\; font-family:helvetica\,arial\,sans-serif\; font-size:14px">Door prizes\, specials\, mulled cider and cookies\, and more!</span>
LOCATION:3315 Harpine Hwy\, Harrisonburg\, VA 22802
UID:e.2338.8109
SEQUENCE:3
DTSTAMP:20260419T122325Z
URL:https://chamber.hrchamber.org/events/details/brydgeworks-glass-christmas-open-house-week-12-11-2019-8109
END:VEVENT

END:VCALENDAR
