BEGIN:VCALENDAR
VERSION:2.0
PRODID:-//ChamberMaster//Event Calendar 2.0//EN
METHOD:PUBLISH
X-PUBLISHED-TTL:P3D
REFRESH-INTERVAL:P3D
CALSCALE:GREGORIAN
BEGIN:VEVENT
DTSTART;VALUE=DATE:20181204
DTEND;VALUE=DATE:20181209
TRANSP:TRANSPARENT
X-MICROSOFT-CDO-ALLDAYEVENT:TRUE
SUMMARY:BrydgeWorks Glass Christmas Open House
DESCRIPTION:Make the BrydgeWorks Glass Christmas Open House a holiday tradition! We'll be serving up mulled cider\, cookies\, door prizes\, specials\, and more! Stunning glass gifts your loved ones will treasure.
X-ALT-DESC;FMTTYPE=text/html:<span style="color:rgb(0\, 46\, 93)\; font-family:adobe-caslon-w01-smbd\,serif\; font-size:12px">Make the BrydgeWorks Glass Christmas Open House a holiday tradition! We&rsquo\;ll be serving up mulled cider\, cookies\, door prizes\, specials\, and more! Stunning glass gifts your loved ones will treasure.&nbsp\;</span>
LOCATION:3315 Harpine Hwy. Harrisonburg\, VA 22802
UID:e.2338.6129
SEQUENCE:3
DTSTAMP:20260420T060246Z
URL:https://chamber.hrchamber.org/events/details/brydgeworks-glass-christmas-open-house-6129
END:VEVENT

END:VCALENDAR
