BEGIN:VCALENDAR
VERSION:2.0
PRODID:-//ChamberMaster//Event Calendar 2.0//EN
METHOD:PUBLISH
X-PUBLISHED-TTL:P3D
REFRESH-INTERVAL:P3D
CALSCALE:GREGORIAN
BEGIN:VEVENT
DTSTART:20170504T210000Z
DTEND:20170504T230000Z
X-MICROSOFT-CDO-ALLDAYEVENT:FALSE
SUMMARY:BrydgeWorks BAH Event RSVP
DESCRIPTION:BrydgeWorks Business After Hours
X-ALT-DESC;FMTTYPE=text/html:BrydgeWorks Business After Hours
LOCATION:BrydgeWorks Glass 3315 Harpine Hwy\, Harrisonburg\, VA 22802
UID:e.2338.1526
SEQUENCE:3
DTSTAMP:20260419T203459Z
URL:https://chamber.hrchamber.org/events/details/brydgeworks-bah-event-rsvp-1526
END:VEVENT

END:VCALENDAR
