BEGIN:VCALENDAR
VERSION:2.0
PRODID:-//ChamberMaster//Event Calendar 2.0//EN
METHOD:PUBLISH
X-PUBLISHED-TTL:P3D
REFRESH-INTERVAL:P3D
CALSCALE:GREGORIAN
BEGIN:VEVENT
DTSTART:20180829T203000Z
DTEND:20180829T220000Z
X-MICROSOFT-CDO-ALLDAYEVENT:FALSE
SUMMARY:Brookdale Open House
DESCRIPTION:
X-ALT-DESC;FMTTYPE=text/html:
LOCATION:Brookdale Harrisonburg Assisted Living Alzheimer's & Dementia Care 2101 Deyerle Ave Harrisonburg\, VA 22801
UID:e.2338.5917
SEQUENCE:3
DTSTAMP:20260420T115849Z
URL:https://chamber.hrchamber.org/events/details/brookdale-open-house-5917
END:VEVENT

END:VCALENDAR
