BEGIN:VCALENDAR
VERSION:2.0
PRODID:-//ChamberMaster//Event Calendar 2.0//EN
METHOD:PUBLISH
X-PUBLISHED-TTL:P3D
REFRESH-INTERVAL:P3D
CALSCALE:GREGORIAN
BEGIN:VEVENT
DTSTART:20151017T130000Z
DTEND:20151017T190000Z
X-MICROSOFT-CDO-ALLDAYEVENT:FALSE
SUMMARY:Broadway Timberville Fall Festival 2015
DESCRIPTION:Join us for the 51st Annual Broadway Timberville Fall Festival!  The event is a fun filled day of craft and food vendors\, a classic car show\, and fun for the whole family.
X-ALT-DESC;FMTTYPE=text/html:Join us for the 51st Annual Broadway Timberville Fall Festival! &nbsp\;The event is a fun filled day of craft and food vendors\, a classic car show\, and fun for the whole family.
LOCATION:Main Street. Broadway\, Virginia.
UID:e.2338.262
SEQUENCE:3
DTSTAMP:20260424T145012Z
URL:https://chamber.hrchamber.org/events/details/broadway-timberville-fall-festival-2015-10-17-2015-262
END:VEVENT

END:VCALENDAR
