BEGIN:VCALENDAR
VERSION:2.0
PRODID:-//ChamberMaster//Event Calendar 2.0//EN
METHOD:PUBLISH
X-PUBLISHED-TTL:P3D
REFRESH-INTERVAL:P3D
CALSCALE:GREGORIAN
BEGIN:VEVENT
DTSTART:20170514T160000Z
DTEND:20170514T200000Z
X-MICROSOFT-CDO-ALLDAYEVENT:FALSE
SUMMARY:Broadway HS Scholarship Blood Drive at Randy's Do It Best Hardware
DESCRIPTION:Randy's Do It Best Hardware in Timberville is hosting a Bloodmobile to support Broadway High School's Scholarship Blood Drive on Sunday\, May 14th from 12 noon to 4 pm. Every pint donated earns points towards scholarship dollars! Walk-ups are welcome\, but appointments are encouraged. To secure your spot\, visit https://donateblood.vablood.org. Blood supplies are critical across the country   please do your part to help save lives!
X-ALT-DESC;FMTTYPE=text/html:Randy&rsquo\;s Do It Best Hardware in Timberville is hosting a Bloodmobile to support Broadway High School&rsquo\;s Scholarship Blood Drive on Sunday\, May 14th from 12 noon to 4 pm. Every pint donated earns points towards scholarship dollars! Walk-ups are welcome\, but appointments are encouraged. To secure your spot\, visit https://donateblood.vablood.org. Blood supplies are critical across the country &ndash\; please do your part to help save lives!
LOCATION:Randy's Do It Best Hardware 14064 Timber Way Timberville VA 22853
UID:e.2338.2678
SEQUENCE:3
DTSTAMP:20260419T192811Z
URL:https://chamber.hrchamber.org/events/details/broadway-hs-scholarship-blood-drive-at-randy-s-do-it-best-hardware-2678
END:VEVENT

END:VCALENDAR
