BEGIN:VCALENDAR
VERSION:2.0
PRODID:-//ChamberMaster//Event Calendar 2.0//EN
METHOD:PUBLISH
X-PUBLISHED-TTL:P3D
REFRESH-INTERVAL:P3D
CALSCALE:GREGORIAN
BEGIN:VEVENT
DTSTART;VALUE=DATE:20160525
DTEND;VALUE=DATE:20160605
TRANSP:TRANSPARENT
X-MICROSOFT-CDO-ALLDAYEVENT:TRUE
SUMMARY:Bridgewater Community Yard Sale
DESCRIPTION:Do you have stuff to get rid of? Do you need some extra $$$? Reserve a space at the Turner Ashby High School Community Yard Sale on Saturday\, June 4th (Bridgewater Community Yard Sale Day). Details and reservations at www.FCCLAyardsale.webs.com
X-ALT-DESC;FMTTYPE=text/html:Do you have stuff to get rid of? Do you need some extra $$$? Reserve a space at the Turner Ashby High School Community Yard Sale on Saturday\, June 4th (Bridgewater Community Yard Sale Day). Details and reservations at www.FCCLAyardsale.webs.com
LOCATION:Turner Ashby High School 800 North Main Street Bridgewater\, VA 22812
UID:e.2338.426
SEQUENCE:3
DTSTAMP:20260422T032257Z
URL:https://chamber.hrchamber.org/events/details/bridgewater-community-yard-sale-05-25-2016-426
END:VEVENT

END:VCALENDAR
