BEGIN:VCALENDAR
VERSION:2.0
PRODID:-//ChamberMaster//Event Calendar 2.0//EN
METHOD:PUBLISH
X-PUBLISHED-TTL:P3D
REFRESH-INTERVAL:P3D
CALSCALE:GREGORIAN
BEGIN:VEVENT
DTSTART:20181113T210000Z
DTEND:20181113T230000Z
X-MICROSOFT-CDO-ALLDAYEVENT:FALSE
SUMMARY:Bridgewater College Business Exp
DESCRIPTION:Stop by the Business Expo and part-time Job Fair for an opportunity to interact with members of the working community.
X-ALT-DESC;FMTTYPE=text/html:<span style="color: rgb(16\, 16\, 16)\; font-family: &quot\;Crimson Text&quot\;\, serif\; font-size: 20px\;">Stop by the Business Expo and part-time Job Fair for an opportunity to interact with members of the working community.</span>
LOCATION:Boinott Room and KCC Lobby
UID:e.2338.5961
SEQUENCE:3
DTSTAMP:20260420T074655Z
URL:https://chamber.hrchamber.org/events/details/bridgewater-college-business-exp-5961
END:VEVENT

END:VCALENDAR
