BEGIN:VCALENDAR
VERSION:2.0
PRODID:-//ChamberMaster//Event Calendar 2.0//EN
METHOD:PUBLISH
X-PUBLISHED-TTL:P3D
REFRESH-INTERVAL:P3D
CALSCALE:GREGORIAN
BEGIN:VEVENT
DTSTART:20180227T130000Z
DTEND:20180227T203000Z
X-MICROSOFT-CDO-ALLDAYEVENT:FALSE
SUMMARY:Bricks & Clicks Workshop for Small Business Owners\,
DESCRIPTION:Ready to become a dynamic online and offline business destination? Nationally renowned marketing expert and small business strategist\, Jon Schallert of The Schallert Group will lead this dynamic workshop that will give business owners the tools to strengthen their web presence and transition to an experience-based business. \n\nBusiness owners will learn how to become a destination business   both online and in-store. In addition\, attendees will:\n\n	Get the strategies to make sure customers can find you.\n	Discover ways to create an engaging and sales-driving website.\n	Hear what creative businesses around the nation have done to defy impossible customer markets and attract people from miles away by creating an experience-based destination.\n	Find out how to offer more than a transaction in order to become a destination - whether meal delivery subscriptions are eating into your dining room sales or Amazon is clicking away at your bottom line.\n\n \n\nFor more details about the program\, and to register\, visit http://downtownharrisonburg.org/bricks-clicks/.
X-ALT-DESC;FMTTYPE=text/html:<span style="color:black\;"><span style="font-family:arial\,sans-serif\;"><span style="font-size:10.5pt\;">Ready to become a dynamic online and offline business destination? Nationally renowned marketing expert and small business strategist\, Jon Schallert of The Schallert Group will lead this dynamic workshop that will give business owners the tools to strengthen their web presence and transition to an experience-based business. </span></span></span><br />\n<span style="color:black\;"><span style="font-family:arial\,sans-serif\;"><span style="font-size:10.5pt\;">Business owners will learn how to become a destination business &ndash\; both online and in-store. In addition\, attendees will:</span></span></span>\n<ul>\n	<li><span style="color:black\;"><span style="font-family:arial\,sans-serif\;"><span style="font-size:10.5pt\;">Get the strategies to make sure customers can find you.</span></span></span></li>\n	<li><span style="color:black\;"><span style="font-family:arial\,sans-serif\;"><span style="font-size:10.5pt\;">Discover ways to create an engaging and sales-driving website.</span></span></span></li>\n	<li><span style="color:black\;"><span style="font-family:arial\,sans-serif\;"><span style="font-size:10.5pt\;">Hear what creative businesses around the nation have done to defy impossible customer markets and attract people from miles away by creating an experience-based destination.</span></span></span></li>\n	<li><span style="color:black\;"><span style="font-family:arial\,sans-serif\;"><span style="font-size:10.5pt\;">Find out how to offer more than a transaction in order to become a destination - whether meal delivery subscriptions are eating into your dining room sales or Amazon is clicking away at your bottom line.</span></span></span></li>\n</ul>\n&nbsp\;<br />\n<span style="color:black\;"><span style="font-family:arial\,sans-serif\;"><span style="font-size:10.5pt\;">For more details about the program\, and to register\, visit <a href="http://downtownharrisonburg.org/bricks-clicks/" target="_blank">http://downtownharrisonburg.org/bricks-clicks/</a>.</span></span></span><br />\n&nbsp\;
LOCATION:JMU Madison Union Ballroom
UID:e.2338.3600
SEQUENCE:3
DTSTAMP:20260420T100531Z
URL:https://chamber.hrchamber.org/events/details/bricks-clicks-workshop-for-small-business-owners-3600
END:VEVENT

END:VCALENDAR
