BEGIN:VCALENDAR
VERSION:2.0
PRODID:-//ChamberMaster//Event Calendar 2.0//EN
METHOD:PUBLISH
X-PUBLISHED-TTL:P3D
REFRESH-INTERVAL:P3D
CALSCALE:GREGORIAN
BEGIN:VEVENT
DTSTART:20180519T120000Z
DTEND:20180520T030000Z
X-MICROSOFT-CDO-ALLDAYEVENT:FALSE
SUMMARY:Bolt for Blue Ridge 5K & Fun Run
DESCRIPTION:Join us for Bolt for Blue Ridge Community 5K & Kids Fun Run. There will be a 1-mile Fun Run\, free of charge for registrants with children under the age of 12. Please feel call 540-828-2233 with any questions!
X-ALT-DESC;FMTTYPE=text/html:Join us for Bolt for Blue Ridge Community 5K &amp\; Kids Fun Run. There will be a 1-mile Fun Run\, free of charge for registrants with children under the age of 12. Please feel call 540-828-2233 with any questions!
LOCATION:Bridgewater Community Center (Arey Hall) 201 Green Street\, Bridgewater\, Va 22812
UID:e.2338.3748
SEQUENCE:3
DTSTAMP:20260420T131456Z
URL:https://chamber.hrchamber.org/events/details/bolt-for-blue-ridge-5k-fun-run-3748
END:VEVENT

END:VCALENDAR
