BEGIN:VCALENDAR
VERSION:2.0
PRODID:-//ChamberMaster//Event Calendar 2.0//EN
METHOD:PUBLISH
X-PUBLISHED-TTL:P3D
REFRESH-INTERVAL:P3D
CALSCALE:GREGORIAN
BEGIN:VEVENT
DTSTART;VALUE=DATE:20180322
DTEND;VALUE=DATE:20180323
TRANSP:TRANSPARENT
X-MICROSOFT-CDO-ALLDAYEVENT:TRUE
SUMMARY:BOLD Session
DESCRIPTION:DoubleTree by Hilton Harrisonburg\n\n\n\n Topic: Ethical Leadership.
X-ALT-DESC;FMTTYPE=text/html:<strong><span style="color:black\;"><span style="font-family:arial\,sans-serif\;"><span style="font-size:10.5pt\;">DoubleTree by Hilton Harrisonburg<br />\n<br />\n&nbsp\;</span></span></span></strong><span style="color:black\;"><span style="font-family:arial\,sans-serif\;"><span style="font-size:10.5pt\;">Topic: Ethical Leadership. </span></span></span>
LOCATION:
UID:e.2338.3737
SEQUENCE:3
DTSTAMP:20260420T100418Z
URL:https://chamber.hrchamber.org/events/details/bold-session-3737
END:VEVENT

END:VCALENDAR
