BEGIN:VCALENDAR
VERSION:2.0
PRODID:-//ChamberMaster//Event Calendar 2.0//EN
METHOD:PUBLISH
X-PUBLISHED-TTL:P3D
REFRESH-INTERVAL:P3D
CALSCALE:GREGORIAN
BEGIN:VEVENT
DTSTART:20190424T130000Z
DTEND:20190424T200000Z
X-MICROSOFT-CDO-ALLDAYEVENT:FALSE
SUMMARY:BOLD Service Project
DESCRIPTION:Scheduled shifts are 9 AM - 12 PM and 1 PM - 4 PM.  Lunch will be provided for both shifts from 12 PM - 1 PM.
X-ALT-DESC;FMTTYPE=text/html:Scheduled shifts are 9 AM - 12 PM and 1 PM - 4 PM.&nbsp\; Lunch will be provided for both shifts from 12 PM - 1 PM.
LOCATION:Still Meadows Enrichment Center & Camp 11992 Hollar School Rd Linville VA 22834
UID:e.2338.6348
SEQUENCE:3
DTSTAMP:20260419T235344Z
URL:https://chamber.hrchamber.org/events/details/bold-service-project-6348
END:VEVENT

END:VCALENDAR
