BEGIN:VCALENDAR
VERSION:2.0
PRODID:-//ChamberMaster//Event Calendar 2.0//EN
METHOD:PUBLISH
X-PUBLISHED-TTL:P3D
REFRESH-INTERVAL:P3D
CALSCALE:GREGORIAN
BEGIN:VEVENT
DTSTART:20190212T123000Z
DTEND:20190212T150000Z
X-MICROSOFT-CDO-ALLDAYEVENT:FALSE
SUMMARY:BOLD Quarterly Session
DESCRIPTION:BOLD Quarterly Session
X-ALT-DESC;FMTTYPE=text/html:BOLD Quarterly Session
LOCATION:DoubleTree by Hilton (William Harrison Meeting Room) 1400 E Market St Harrisonburg\, VA 22801
UID:e.2338.6300
SEQUENCE:3
DTSTAMP:20260420T030307Z
URL:https://chamber.hrchamber.org/events/details/bold-quarterly-session-6300
END:VEVENT

END:VCALENDAR
