BEGIN:VCALENDAR
VERSION:2.0
PRODID:-//ChamberMaster//Event Calendar 2.0//EN
METHOD:PUBLISH
X-PUBLISHED-TTL:P3D
REFRESH-INTERVAL:P3D
CALSCALE:GREGORIAN
BEGIN:VEVENT
DTSTART:20181211T123000Z
DTEND:20181211T150000Z
X-MICROSOFT-CDO-ALLDAYEVENT:FALSE
SUMMARY:BOLD Quarterly Session
DESCRIPTION:
X-ALT-DESC;FMTTYPE=text/html:
LOCATION:DoubleTree by Hilton 1400 E Market St Harrisonburg VA 22801
UID:e.2338.6088
SEQUENCE:3
DTSTAMP:20260420T054613Z
URL:https://chamber.hrchamber.org/events/details/bold-quarterly-session-6088
END:VEVENT

END:VCALENDAR
