BEGIN:VCALENDAR
VERSION:2.0
PRODID:-//ChamberMaster//Event Calendar 2.0//EN
METHOD:PUBLISH
X-PUBLISHED-TTL:P3D
REFRESH-INTERVAL:P3D
CALSCALE:GREGORIAN
BEGIN:VEVENT
DTSTART:20180918T113000Z
DTEND:20180918T140000Z
X-MICROSOFT-CDO-ALLDAYEVENT:FALSE
SUMMARY:BOLD Quarterly Session
DESCRIPTION:
X-ALT-DESC;FMTTYPE=text/html:
LOCATION:DoubleTree by Hilton 1400 E Market St Harrisonburg VA 22801
UID:e.2338.5977
SEQUENCE:3
DTSTAMP:20260420T102415Z
URL:https://chamber.hrchamber.org/events/details/bold-quarterly-session-5977
END:VEVENT

END:VCALENDAR
