BEGIN:VCALENDAR
VERSION:2.0
PRODID:-//ChamberMaster//Event Calendar 2.0//EN
METHOD:PUBLISH
X-PUBLISHED-TTL:P3D
REFRESH-INTERVAL:P3D
CALSCALE:GREGORIAN
BEGIN:VEVENT
DTSTART:20190521T200000Z
DTEND:20190521T220000Z
X-MICROSOFT-CDO-ALLDAYEVENT:FALSE
SUMMARY:BOLD Class of 2017-2019 Graduation
DESCRIPTION:BOLD Class of 2017-2019 Graduation
X-ALT-DESC;FMTTYPE=text/html:BOLD Class of 2017-2019 Graduation
LOCATION:Union Station Restaurant & Bar 128 W Market St Suite 202 Harrisonburg VA 22801
UID:e.2338.6349
SEQUENCE:3
DTSTAMP:20260419T224609Z
URL:https://chamber.hrchamber.org/events/details/bold-class-of-2017-2019-graduation-6349
END:VEVENT

END:VCALENDAR
