BEGIN:VCALENDAR
VERSION:2.0
PRODID:-//ChamberMaster//Event Calendar 2.0//EN
METHOD:PUBLISH
X-PUBLISHED-TTL:P3D
REFRESH-INTERVAL:P3D
CALSCALE:GREGORIAN
BEGIN:VEVENT
DTSTART:20180522T200000Z
DTEND:20180522T220000Z
X-MICROSOFT-CDO-ALLDAYEVENT:FALSE
SUMMARY:BOLD 2016-2018 Class Graduation
DESCRIPTION:Class of 2016 - 2018 BOLD Graduation\n\n\n\nBOLD Applications for 2018-2020 will be available soon!
X-ALT-DESC;FMTTYPE=text/html:<strong>Class of 2016 - 2018 BOLD Graduation</strong><br />\n<br />\n<em>BOLD Applications for 2018-2020 will be available soon!</em>
LOCATION:Union Station Restaurant & Bar 128 W. Market Street Harrisonburg\, VA
UID:e.2338.5825
SEQUENCE:3
DTSTAMP:20260420T131332Z
URL:https://chamber.hrchamber.org/events/details/bold-2016-2018-class-graduation-5825
END:VEVENT

END:VCALENDAR
