BEGIN:VCALENDAR
VERSION:2.0
PRODID:-//ChamberMaster//Event Calendar 2.0//EN
METHOD:PUBLISH
X-PUBLISHED-TTL:P3D
REFRESH-INTERVAL:P3D
CALSCALE:GREGORIAN
BEGIN:VEVENT
DTSTART:20181220T170000Z
DTEND:20181220T180000Z
X-MICROSOFT-CDO-ALLDAYEVENT:FALSE
SUMMARY:Board of Directors
DESCRIPTION:
X-ALT-DESC;FMTTYPE=text/html:
LOCATION:Harrisonburg-Rockingham Chamber of Commerce 800 Country Club Rd Harrisonburg\, VA 22802
UID:e.2338.1881
SEQUENCE:3
DTSTAMP:20260420T061026Z
URL:https://chamber.hrchamber.org/events/details/board-of-directors-12-27-2018-1881
END:VEVENT

END:VCALENDAR
