BEGIN:VCALENDAR
VERSION:2.0
PRODID:-//ChamberMaster//Event Calendar 2.0//EN
METHOD:PUBLISH
X-PUBLISHED-TTL:P3D
REFRESH-INTERVAL:P3D
CALSCALE:GREGORIAN
BEGIN:VEVENT
DTSTART:20180830T160000Z
DTEND:20180830T170000Z
X-MICROSOFT-CDO-ALLDAYEVENT:FALSE
SUMMARY:Board of Directors
DESCRIPTION:American National University\n\n1515 Country Club Rd\n\nHarrisonburg\, VA 22802
X-ALT-DESC;FMTTYPE=text/html:American National University<br />\n1515 Country Club Rd<br />\nHarrisonburg\, VA 22802
LOCATION:
UID:e.2338.1877
SEQUENCE:3
DTSTAMP:20260420T120034Z
URL:https://chamber.hrchamber.org/events/details/board-of-directors-08-30-2018-1877
END:VEVENT

END:VCALENDAR
