BEGIN:VCALENDAR
VERSION:2.0
PRODID:-//ChamberMaster//Event Calendar 2.0//EN
METHOD:PUBLISH
X-PUBLISHED-TTL:P3D
REFRESH-INTERVAL:P3D
CALSCALE:GREGORIAN
BEGIN:VEVENT
DTSTART;VALUE=DATE:20180421
DTEND;VALUE=DATE:20180422
TRANSP:TRANSPARENT
X-MICROSOFT-CDO-ALLDAYEVENT:TRUE
SUMMARY:Blue Ridge Hospice Thrift Shop: Customer Appreciation Day
DESCRIPTION:
X-ALT-DESC;FMTTYPE=text/html:
LOCATION:
UID:e.2338.3625
SEQUENCE:3
DTSTAMP:20260420T114115Z
URL:https://chamber.hrchamber.org/events/details/blue-ridge-hospice-thrift-shop-customer-appreciation-day-3625
END:VEVENT

END:VCALENDAR
