BEGIN:VCALENDAR
VERSION:2.0
PRODID:-//ChamberMaster//Event Calendar 2.0//EN
METHOD:PUBLISH
X-PUBLISHED-TTL:P3D
REFRESH-INTERVAL:P3D
CALSCALE:GREGORIAN
BEGIN:VEVENT
DTSTART;VALUE=DATE:20181018
DTEND;VALUE=DATE:20181019
TRANSP:TRANSPARENT
X-MICROSOFT-CDO-ALLDAYEVENT:TRUE
SUMMARY:Blue Ridge Community College: Community Breakfast\, Update w/ Dr. John Downey
DESCRIPTION:An Update from BRCC President\, Dr. John Downey
X-ALT-DESC;FMTTYPE=text/html:An Update from BRCC President\, Dr. John Downey<br />\n&nbsp\;
LOCATION:Spotswood Country Club
UID:e.2338.6058
SEQUENCE:3
DTSTAMP:20260420T091314Z
URL:https://chamber.hrchamber.org/events/details/blue-ridge-community-college-community-breakfast-update-w-dr-john-downey-6058
END:VEVENT

END:VCALENDAR
