BEGIN:VCALENDAR
VERSION:2.0
PRODID:-//ChamberMaster//Event Calendar 2.0//EN
METHOD:PUBLISH
X-PUBLISHED-TTL:P3D
REFRESH-INTERVAL:P3D
CALSCALE:GREGORIAN
BEGIN:VEVENT
DTSTART:20180124T160000Z
DTEND:20180124T200000Z
X-MICROSOFT-CDO-ALLDAYEVENT:FALSE
SUMMARY:Bloodmobile Drive at Wells Fargo in Bridgewater
DESCRIPTION:Wells Fargo in Bridgewater is hosting a Bloodmobile on Wednesday\, January 24th from 11 am to 3 pm. This drive is replacing one cancelled due to the federal government shutdown. Donors will receive a knit beanie as a thank-you gift (while supplies last). Every unit donated will save up to three lives -- appointments are encouraged\, but walk-ins are always welcome! To secure your spot\, visit https://donateblood.vablood.org.
X-ALT-DESC;FMTTYPE=text/html:Wells Fargo in Bridgewater is hosting a Bloodmobile on Wednesday\, January 24th from 11 am to 3 pm. This drive is replacing one cancelled due to the federal government shutdown. Donors will receive a knit beanie as a thank-you gift (while supplies last). Every unit donated will save up to three lives -- appointments are encouraged\, but walk-ins are always welcome! To secure your spot\, visit https://donateblood.vablood.org.
LOCATION:500 North Main Street Bridgewater\, VA
UID:e.2338.3596
SEQUENCE:3
DTSTAMP:20260420T073031Z
URL:https://chamber.hrchamber.org/events/details/bloodmobile-drive-at-wells-fargo-in-bridgewater-3596
END:VEVENT

END:VCALENDAR
