BEGIN:VCALENDAR
VERSION:2.0
PRODID:-//ChamberMaster//Event Calendar 2.0//EN
METHOD:PUBLISH
X-PUBLISHED-TTL:P3D
REFRESH-INTERVAL:P3D
CALSCALE:GREGORIAN
BEGIN:VEVENT
DTSTART:20171228T180000Z
DTEND:20171228T220000Z
X-MICROSOFT-CDO-ALLDAYEVENT:FALSE
SUMMARY:Bloodmobile Drive at Wells Fargo Bridgewater
DESCRIPTION:The Bridgewater branch of Wells Fargo is hosting a public Bloodmobile drive on Wednesday\, December 28 from 1 pm to 5 pm. Donors receive a thank-you tee shirt\, while supplies last! Walk-ins are welcome\, but appointments are encouraged. To secure your spot\, visit https://donateblood.vablood.org.
X-ALT-DESC;FMTTYPE=text/html:The Bridgewater branch of Wells Fargo is hosting a public Bloodmobile drive on Wednesday\, December 28 from 1 pm to 5 pm. Donors receive a thank-you tee shirt\, while supplies last! Walk-ins are welcome\, but appointments are encouraged. To secure your spot\, visit https://donateblood.vablood.org.
LOCATION:Wells Fargo 500 North Main Street\, Bridgewater
UID:e.2338.3349
SEQUENCE:3
DTSTAMP:20260420T055047Z
URL:https://chamber.hrchamber.org/events/details/bloodmobile-drive-at-wells-fargo-bridgewater-3349
END:VEVENT

END:VCALENDAR
