BEGIN:VCALENDAR
VERSION:2.0
PRODID:-//ChamberMaster//Event Calendar 2.0//EN
METHOD:PUBLISH
X-PUBLISHED-TTL:P3D
REFRESH-INTERVAL:P3D
CALSCALE:GREGORIAN
BEGIN:VEVENT
DTSTART:20170110T133000Z
DTEND:20170110T173000Z
X-MICROSOFT-CDO-ALLDAYEVENT:FALSE
SUMMARY:Bloodmobile Drive at Virginia DEQ
DESCRIPTION:In honor of National Blood Donor Month\, the Virginia DEQ office in Harrisonburg is hosting a Bloodmobile Drive on Tuesday\, January 10th from 8:30 am to 12:30 pm at their office on Early Drive. Participants receive a free tee shirt for donating (while supplies last)! Walk-ups are welcome\, but appointments are encouraged. To secure your spot\, visit https://vadonor.org.
X-ALT-DESC;FMTTYPE=text/html:In honor of National Blood Donor Month\, the Virginia DEQ office in Harrisonburg is hosting a Bloodmobile Drive on Tuesday\, January 10th from 8:30 am to 12:30 pm at their office on Early Drive. Participants receive a free tee shirt for donating (while supplies last)! Walk-ups are welcome\, but appointments are encouraged. To secure your spot\, visit https://vadonor.org.
LOCATION:Virginia Department of Environmental Quality\, 4411 Early Road\, Harrisonburg
UID:e.2338.1517
SEQUENCE:3
DTSTAMP:20260421T164359Z
URL:https://chamber.hrchamber.org/events/details/bloodmobile-drive-at-virginia-deq-1517
END:VEVENT

END:VCALENDAR
