BEGIN:VCALENDAR
VERSION:2.0
PRODID:-//ChamberMaster//Event Calendar 2.0//EN
METHOD:PUBLISH
X-PUBLISHED-TTL:P3D
REFRESH-INTERVAL:P3D
CALSCALE:GREGORIAN
BEGIN:VEVENT
DTSTART:20180627T113000Z
DTEND:20180627T143000Z
X-MICROSOFT-CDO-ALLDAYEVENT:FALSE
SUMMARY:Bloodmobile drive at Virginia Department of Environmental Quality
DESCRIPTION:The DEQ on Early Drive in Harrisonburg is hosting a public Bloodmobile drive on Wednesday\, June 27th from 7:30 am to 10:30 am. Donors receive a thank-you water bottle\, while supplies last!  Walk-ins are welcome\, but appointments are encouraged.  To secure your spot\, visit https://donateblood.vablood.org.  Share your health and help save lives!
X-ALT-DESC;FMTTYPE=text/html:<span style="color:black">The DEQ on Early Drive in Harrisonburg is hosting a public Bloodmobile drive on Wednesday\, June 27<sup>th</sup> from 7:30 am to 10:30 am. </span>Donors receive a thank-you water bottle\, while supplies last!&nbsp\; Walk-ins are welcome\, but appointments are encouraged.&nbsp\; To secure your spot\, visit <a href="https://donateblood.vablood.org/">https://donateblood.vablood.org</a>. <span style="color:black">&nbsp\;Share your health and help save lives!</span>
LOCATION:Virginia DEQ 4411 Early Road Harrisonburg VA 22801
UID:e.2338.5853
SEQUENCE:3
DTSTAMP:20260420T151325Z
URL:https://chamber.hrchamber.org/events/details/bloodmobile-drive-at-virginia-department-of-environmental-quality-5853
END:VEVENT

END:VCALENDAR
