BEGIN:VCALENDAR
VERSION:2.0
PRODID:-//ChamberMaster//Event Calendar 2.0//EN
METHOD:PUBLISH
X-PUBLISHED-TTL:P3D
REFRESH-INTERVAL:P3D
CALSCALE:GREGORIAN
BEGIN:VEVENT
DTSTART:20171024T180000Z
DTEND:20171024T220000Z
X-MICROSOFT-CDO-ALLDAYEVENT:FALSE
SUMMARY:Bloodmobile Drive at Valley Fitness
DESCRIPTION:Valley Fitness on Lucy Lane in Harrisonburg is hosting a public Bloodmobile drive on Tuesday\, October 24 from 2:00 pm until 6:00 pm. Donors receive a thank-you tee-shirt\, while supplies last! Walk-ins are welcome\, but appointments are encouraged. To secure your spot\, visit https://donateblood.vablood.org.
X-ALT-DESC;FMTTYPE=text/html:Valley Fitness on Lucy Lane in Harrisonburg is hosting a public Bloodmobile drive on Tuesday\, October 24 from 2:00 pm until 6:00 pm. Donors receive a thank-you tee-shirt\, while supplies last! Walk-ins are welcome\, but appointments are encouraged. To secure your spot\, visit https://donateblood.vablood.org.
LOCATION:Valley Fitness 381 Lucy Drive Harrisonburg VA
UID:e.2338.3268
SEQUENCE:3
DTSTAMP:20260420T024640Z
URL:https://chamber.hrchamber.org/events/details/bloodmobile-drive-at-valley-fitness-3268
END:VEVENT

END:VCALENDAR
